BEGIN:VCALENDAR
VERSION:2.0
PRODID:-//BOLETOS CONCIERTOS - ECPv6.15.20//NONSGML v1.0//EN
CALSCALE:GREGORIAN
METHOD:PUBLISH
X-WR-CALNAME:BOLETOS CONCIERTOS
X-ORIGINAL-URL:https://boletos.grupovertical.org
X-WR-CALDESC:Eventos para BOLETOS CONCIERTOS
REFRESH-INTERVAL;VALUE=DURATION:PT1H
X-Robots-Tag:noindex
X-PUBLISHED-TTL:PT1H
BEGIN:VTIMEZONE
TZID:UTC
BEGIN:STANDARD
TZOFFSETFROM:+0000
TZOFFSETTO:+0000
TZNAME:UTC
DTSTART:20250101T000000
END:STANDARD
END:VTIMEZONE
BEGIN:VEVENT
DTSTART;TZID=UTC:20260417T080000
DTEND;TZID=UTC:20260417T170000
DTSTAMP:20260417T074341
CREATED:20260417T073246Z
LAST-MODIFIED:20260417T073246Z
UID:24-1776412800-1776445200@boletos.grupovertical.org
SUMMARY:HUEHUE MUSIC FEST
DESCRIPTION:
URL:https://boletos.grupovertical.org/event/huehue-music-fest/
END:VEVENT
END:VCALENDAR